BEGIN:VCALENDAR
VERSION:2.0
PRODID:-//DIMAGU NEXT GENERATION FOR CHRIST - ECPv6.15.20//NONSGML v1.0//EN
CALSCALE:GREGORIAN
METHOD:PUBLISH
X-ORIGINAL-URL:https://dimagunextgen4christ.com
X-WR-CALDESC:Events for DIMAGU NEXT GENERATION FOR CHRIST
REFRESH-INTERVAL;VALUE=DURATION:PT1H
X-Robots-Tag:noindex
X-PUBLISHED-TTL:PT1H
BEGIN:VTIMEZONE
TZID:UTC
BEGIN:STANDARD
TZOFFSETFROM:+0000
TZOFFSETTO:+0000
TZNAME:UTC
DTSTART:20190101T000000
END:STANDARD
END:VTIMEZONE
BEGIN:VEVENT
DTSTART;TZID=UTC:20211227T180000
DTEND;TZID=UTC:20211231T120000
DTSTAMP:20260420T153043
CREATED:20211227T060041Z
LAST-MODIFIED:20251018T195348Z
UID:1747-1640628000-1640952000@dimagunextgen4christ.com
SUMMARY:NO TIME
DESCRIPTION:NO TIME\nA Call to Awaken — Because Destiny Won’t Wait\nIn a world that never stops moving\, where distractions pull us in every direction\, God is sending a clear and urgent message to His people — there is NO TIME to waste. \nThe “NO TIME” event is a divine awakening — a movement designed to stir hearts\, revive passion\, and remind every believer that the kingdom assignment cannot wait for a more convenient season. The time to rise\, to act\, and to live purposefully for Christ is now. \nMany have been called\, yet hesitation and fear have held them back. Dreams have been delayed\, gifts left unused\, and souls still waiting for someone to answer the call. But the Spirit of God is declaring in this season: “Wake up\, for the harvest is ready!” \nThis gathering is not about ordinary inspiration — it’s about transformation. It’s a rallying cry to those who feel the fire fading\, to those who once walked in zeal but have grown weary. It’s for the youth\, the leaders\, the believers\, and even the broken — reminding us that God’s timing is not tomorrow; it’s today. \nAt “NO TIME\,” you’ll experience: \n\n\n Powerful worship that breaks chains and rekindles passion. \n\n\n Prophetic declarations that realign you with destiny. \n\n\n Dynamic teachings that empower you to take bold steps of faith. \n\n\n Testimonies and encounters that ignite spiritual hunger and purpose. \n\n\nThe world is changing fast. Evil grows louder. But the light of Christ must shine brighter — through you. Every second counts in the battle for souls\, in the pursuit of righteousness\, and in the fulfillment of destiny. \nThis is more than an event; it’s a wake-up call to the church\, a charge to the next generation\, and a reminder that God is counting on us to move with urgency and faith. \n\n“The night is far spent\, the day is at hand…” — Romans 13:12 \n\nIt’s time to shake off delay.It’s time to step into purpose.It’s time to answer the call.
URL:https://dimagunextgen4christ.com/event/no-time/
LOCATION:OPEN FIELD\, NWAFOR SCHOOL\, Owerri\, Owerri\, Imo\, 460\, Nigeria
CATEGORIES:Crusade
ATTACH;FMTTYPE=image/png:https://dimagunextgen4christ.com/wp-content/uploads/2025/07/Screenshot-2025-10-18-at-7.37.42-PM.png
ORGANIZER;CN="Dimagunextgen":MAILTO:dimagunexgen4christ@gmail.com
END:VEVENT
BEGIN:VEVENT
DTSTART;TZID=UTC:20201227T180000
DTEND;TZID=UTC:20201231T230000
DTSTAMP:20260420T153044
CREATED:20201227T060016Z
LAST-MODIFIED:20251018T195415Z
UID:443-1609092000-1609455600@dimagunextgen4christ.com
SUMMARY:BREAK THE WALL
DESCRIPTION:
URL:https://dimagunextgen4christ.com/event/break-the-wall/
LOCATION:Saint. Patrick’s Cathedral\, New York\, New York\, NY\, United States
CATEGORIES:Crusade
ATTACH;FMTTYPE=image/png:https://dimagunextgen4christ.com/wp-content/uploads/2025/07/Screenshot-2025-10-18-at-7.38.18-PM-e1763295237181.png
END:VEVENT
END:VCALENDAR